BEGIN:VCALENDAR
VERSION:2.0
PRODID:-//Orpheus Nederland - ECPv6.15.20//NONSGML v1.0//EN
CALSCALE:GREGORIAN
METHOD:PUBLISH
X-ORIGINAL-URL:https://orpheusnederland.nl
X-WR-CALDESC:Evenementen voor Orpheus Nederland
REFRESH-INTERVAL;VALUE=DURATION:PT1H
X-Robots-Tag:noindex
X-PUBLISHED-TTL:PT1H
BEGIN:VTIMEZONE
TZID:Europe/Amsterdam
BEGIN:DAYLIGHT
TZOFFSETFROM:+0100
TZOFFSETTO:+0200
TZNAME:CEST
DTSTART:20250330T010000
END:DAYLIGHT
BEGIN:STANDARD
TZOFFSETFROM:+0200
TZOFFSETTO:+0100
TZNAME:CET
DTSTART:20251026T010000
END:STANDARD
BEGIN:DAYLIGHT
TZOFFSETFROM:+0100
TZOFFSETTO:+0200
TZNAME:CEST
DTSTART:20260329T010000
END:DAYLIGHT
BEGIN:STANDARD
TZOFFSETFROM:+0200
TZOFFSETTO:+0100
TZNAME:CET
DTSTART:20261025T010000
END:STANDARD
BEGIN:DAYLIGHT
TZOFFSETFROM:+0100
TZOFFSETTO:+0200
TZNAME:CEST
DTSTART:20270328T010000
END:DAYLIGHT
BEGIN:STANDARD
TZOFFSETFROM:+0200
TZOFFSETTO:+0100
TZNAME:CET
DTSTART:20271031T010000
END:STANDARD
END:VTIMEZONE
BEGIN:VEVENT
DTSTART;TZID=Europe/Amsterdam:20260325T194500
DTEND;TZID=Europe/Amsterdam:20260325T221500
DTSTAMP:20260420T103906
CREATED:20251201T102508Z
LAST-MODIFIED:20260325T015525Z
UID:10001753-1774467900-1774476900@orpheusnederland.nl
SUMMARY:Gespreksavond Den Haag
DESCRIPTION:AanmeldenWil je er bij zijn? Meld je dan tot woensdag 16.00 uur aan via een berichtje naar Mario op telefoonnummer 06-40378199. Als je partner meekomt\, geef dit dan ook door. Mocht je later dan 19.45 uur komen\, laat dit dan even weten. \nEetcafé en barWil je voorafgaand de vegetarische dagschotel eten in het COC café? Meld je dan aan voor het COC Eetcafé. Ook is de bar open voor drankjes om mee te nemen naar de gesprekszaal. Na de gespreksavond kan er ook nog een drankje worden gedronken. Bij het COC Café kun je alleen pinnen of contactloos betalen. \nGratis deelnameOnze gespreksavond is gratis. Maar als kleine stichting waarderen we een bijdrage enorm. Mocht je een vrijwillige donatie willen doen\, dan kan dit aan het eind van de avond via een QR-code. Of doneer via de website van Orpheus Nederland. Elke bijdrage is welkom. Met jouw hulp kunnen we nog meer mensen in een Orpheus-situatie ondersteunen en onze activiteiten uitbreiden. \nWe zien jullie graag om 19.45 uur. Graag woensdag vóór 16.00 uur aanmelden.  \nHartelijke groeten\, \nLeonie\, Mario en RenéMario: 06-40378199 \nOrpheus Nederland – Team Den Haag
URL:https://orpheusnederland.nl/evenement/gespreksavond-den-haag-36/
LOCATION:COC Haaglanden\, Scheveningseveer 7\, 2514 HB Den Haag\, Nederland\, Scheveningseveer 7\, Den Haag\, 2514 HB\, Netherlands
END:VEVENT
END:VCALENDAR